BEGIN:VCALENDAR
VERSION:2.0
PRODID:-//91.223.9.24//NONSGML kigkonsult.se iCalcreator 2.20//
CALSCALE:GREGORIAN
METHOD:PUBLISH
X-WR-CALNAME:Killaloe / Ballina Family Resource Centre
X-WR-CALDESC:Community &amp\; Family Resource Centre
X-FROM-URL:http://www.kbfrc.ie
X-WR-TIMEZONE:Europe/Dublin
BEGIN:VTIMEZONE
TZID:Europe/Dublin
X-LIC-LOCATION:Europe/Dublin
BEGIN:STANDARD
DTSTART:20171029T020000
TZOFFSETFROM:+0100
TZOFFSETTO:+0000
TZNAME:GMT
END:STANDARD
BEGIN:DAYLIGHT
DTSTART:20180325T010000
TZOFFSETFROM:+0000
TZOFFSETTO:+0100
TZNAME:IST
END:DAYLIGHT
END:VTIMEZONE
BEGIN:VEVENT
UID:040000008200E00074C5B7101A82E00800000000F0324E31A5FACF01000000000000000
 01000000047661A1459D88C4691DEFD7E12704803
DTSTAMP:20171103T092036Z
CATEGORIES;LANGUAGE=en-GB:International Days
CONTACT:
DESCRIPTION:
DTSTART;VALUE=DATE:20190205
DTEND;VALUE=DATE:20190206
SEQUENCE:0
SUMMARY:Pancake Tuesday
URL:http://www.kbfrc.ie/event/pancake-tuesday-6/
END:VEVENT
END:VCALENDAR
