BEGIN:VCALENDAR
VERSION:2.0
PRODID:-//91.223.9.24//NONSGML kigkonsult.se iCalcreator 2.20//
CALSCALE:GREGORIAN
METHOD:PUBLISH
X-WR-CALNAME:Killaloe / Ballina Family Resource Centre
X-WR-CALDESC:Community &amp\; Family Resource Centre
X-FROM-URL:http://www.kbfrc.ie
X-WR-TIMEZONE:Europe/Dublin
BEGIN:VTIMEZONE
TZID:Europe/Dublin
X-LIC-LOCATION:Europe/Dublin
BEGIN:STANDARD
DTSTART:20171029T020000
TZOFFSETFROM:+0100
TZOFFSETTO:+0000
TZNAME:GMT
END:STANDARD
BEGIN:DAYLIGHT
DTSTART:20180325T010000
TZOFFSETFROM:+0000
TZOFFSETTO:+0100
TZNAME:IST
END:DAYLIGHT
END:VTIMEZONE
BEGIN:VEVENT
UID:040000008200E00074C5B7101A82E00800000000F02D6CDAC5F9CF01000000000000000
 010000000E0FD9420D522A74E9A782A1614F4A0E4
DTSTAMP:20171103T092059Z
CATEGORIES;LANGUAGE=en-GB:International Days
CONTACT:
DESCRIPTION:
DTSTART;VALUE=DATE:20150813
DTEND;VALUE=DATE:20150814
RRULE:FREQ=YEARLY;INTERVAL=1;BYMONTHDAY=13;BYMONTH=8;WKST=SU
SEQUENCE:0
SUMMARY:International Left-Handers Day
URL:http://www.kbfrc.ie/event/international-left-handers-day/
END:VEVENT
END:VCALENDAR
