BEGIN:VCALENDAR
VERSION:2.0
PRODID:-//91.223.9.24//NONSGML kigkonsult.se iCalcreator 2.20//
CALSCALE:GREGORIAN
METHOD:PUBLISH
X-WR-CALNAME:Killaloe / Ballina Family Resource Centre
X-WR-CALDESC:Community &amp\; Family Resource Centre
X-FROM-URL:http://www.kbfrc.ie
X-WR-TIMEZONE:Europe/Dublin
BEGIN:VTIMEZONE
TZID:Europe/Dublin
X-LIC-LOCATION:Europe/Dublin
BEGIN:STANDARD
DTSTART:20171029T020000
TZOFFSETFROM:+0100
TZOFFSETTO:+0000
TZNAME:GMT
END:STANDARD
BEGIN:DAYLIGHT
DTSTART:20180325T010000
TZOFFSETFROM:+0000
TZOFFSETTO:+0100
TZNAME:IST
END:DAYLIGHT
END:VTIMEZONE
BEGIN:VEVENT
UID:040000008200E00074C5B7101A82E00800000000509CDE4614F9CF01000000000000000
 010000000FEB09F7063C0D447AC655569958F9F0C
DTSTAMP:20171103T092127Z
CATEGORIES;LANGUAGE=en-GB:International Days
CONTACT:
DESCRIPTION:
DTSTART;VALUE=DATE:20150308
DTEND;VALUE=DATE:20150309
RRULE:FREQ=YEARLY;INTERVAL=1;BYMONTHDAY=8;BYMONTH=3;WKST=SU
SEQUENCE:0
SUMMARY:International Women’s Day
URL:http://www.kbfrc.ie/event/international-womens-day/
END:VEVENT
END:VCALENDAR
